BEGIN:VCALENDAR
VERSION:2.0
PRODID:https://www.kufer.de/kuferweb / DE
METHOD:PUBLISH
CALSCALE:GREGORIAN
X-WR-TIMEZONE:Europe/Berlin
BEGIN:VTIMEZONE
TZID:Europe/Berlin
X-LIC-LOCATION:Europe/Berlin
BEGIN:DAYLIGHT
TZOFFSETFROM:+0100
TZOFFSETTO:+0200
TZNAME:CEST
DTSTART:19700329T020000
RRULE:FREQ=YEARLY;INTERVAL=1;BYDAY=-1SU;BYMONTH=3
END:DAYLIGHT
BEGIN:STANDARD
TZOFFSETFROM:+0200
TZOFFSETTO:+0100
TZNAME:CET
DTSTART:19701025T030000
RRULE:FREQ=YEARLY;INTERVAL=1;BYDAY=-1SU;BYMONTH=10
END:STANDARD
END:VTIMEZONE
BEGIN:VEVENT
DTSTAMP:20260424T171409
DTSTART;TZID=Europe/Berlin:20260417T113000
DTEND;TZID=Europe/Berlin:20260417T130000
UID:262-O130-20260417T113000@EFADÜSSELDORF
SUMMARY:Café Kinderwagen Offener Treff für Mütter und Väter mit Babys im ersten Lebensjahr (262-O130) 
LOCATION:Borsigstr. 12, efa-Stadtteiltreff, Saal, Borsigstr. 12, 40227 Düsseldorf
END:VEVENT
BEGIN:VEVENT
DTSTAMP:20260424T171409
DTSTART;TZID=Europe/Berlin:20260424T113000
DTEND;TZID=Europe/Berlin:20260424T130000
UID:262-O130-20260424T113000@EFADÜSSELDORF
SUMMARY:Café Kinderwagen Offener Treff für Mütter und Väter mit Babys im ersten Lebensjahr (262-O130) 
LOCATION:Borsigstr. 12, efa-Stadtteiltreff, Saal, Borsigstr. 12, 40227 Düsseldorf
END:VEVENT
BEGIN:VEVENT
DTSTAMP:20260424T171409
DTSTART;TZID=Europe/Berlin:20260508T113000
DTEND;TZID=Europe/Berlin:20260508T130000
UID:262-O130-20260508T113000@EFADÜSSELDORF
SUMMARY:Café Kinderwagen Offener Treff für Mütter und Väter mit Babys im ersten Lebensjahr (262-O130) 
LOCATION:Borsigstr. 12, efa-Stadtteiltreff, Saal, Borsigstr. 12, 40227 Düsseldorf
END:VEVENT
BEGIN:VEVENT
DTSTAMP:20260424T171409
DTSTART;TZID=Europe/Berlin:20260515T113000
DTEND;TZID=Europe/Berlin:20260515T130000
UID:262-O130-20260515T113000@EFADÜSSELDORF
SUMMARY:Café Kinderwagen Offener Treff für Mütter und Väter mit Babys im ersten Lebensjahr (262-O130) 
LOCATION:Borsigstr. 12, efa-Stadtteiltreff, Saal, Borsigstr. 12, 40227 Düsseldorf
END:VEVENT
BEGIN:VEVENT
DTSTAMP:20260424T171409
DTSTART;TZID=Europe/Berlin:20260522T113000
DTEND;TZID=Europe/Berlin:20260522T130000
UID:262-O130-20260522T113000@EFADÜSSELDORF
SUMMARY:Café Kinderwagen Offener Treff für Mütter und Väter mit Babys im ersten Lebensjahr (262-O130) 
LOCATION:Borsigstr. 12, efa-Stadtteiltreff, Saal, Borsigstr. 12, 40227 Düsseldorf
END:VEVENT
BEGIN:VEVENT
DTSTAMP:20260424T171409
DTSTART;TZID=Europe/Berlin:20260529T113000
DTEND;TZID=Europe/Berlin:20260529T130000
UID:262-O130-20260529T113000@EFADÜSSELDORF
SUMMARY:Café Kinderwagen Offener Treff für Mütter und Väter mit Babys im ersten Lebensjahr (262-O130) 
LOCATION:Borsigstr. 12, efa-Stadtteiltreff, Saal, Borsigstr. 12, 40227 Düsseldorf
END:VEVENT
BEGIN:VEVENT
DTSTAMP:20260424T171409
DTSTART;TZID=Europe/Berlin:20260605T113000
DTEND;TZID=Europe/Berlin:20260605T130000
UID:262-O130-20260605T113000@EFADÜSSELDORF
SUMMARY:Café Kinderwagen Offener Treff für Mütter und Väter mit Babys im ersten Lebensjahr (262-O130) 
LOCATION:Borsigstr. 12, efa-Stadtteiltreff, Saal, Borsigstr. 12, 40227 Düsseldorf
END:VEVENT
BEGIN:VEVENT
DTSTAMP:20260424T171409
DTSTART;TZID=Europe/Berlin:20260612T113000
DTEND;TZID=Europe/Berlin:20260612T130000
UID:262-O130-20260612T113000@EFADÜSSELDORF
SUMMARY:Café Kinderwagen Offener Treff für Mütter und Väter mit Babys im ersten Lebensjahr (262-O130) 
LOCATION:Borsigstr. 12, efa-Stadtteiltreff, Saal, Borsigstr. 12, 40227 Düsseldorf
END:VEVENT
BEGIN:VEVENT
DTSTAMP:20260424T171409
DTSTART;TZID=Europe/Berlin:20260619T113000
DTEND;TZID=Europe/Berlin:20260619T130000
UID:262-O130-20260619T113000@EFADÜSSELDORF
SUMMARY:Café Kinderwagen Offener Treff für Mütter und Väter mit Babys im ersten Lebensjahr (262-O130) 
LOCATION:Borsigstr. 12, efa-Stadtteiltreff, Saal, Borsigstr. 12, 40227 Düsseldorf
END:VEVENT
BEGIN:VEVENT
DTSTAMP:20260424T171409
DTSTART;TZID=Europe/Berlin:20260626T113000
DTEND;TZID=Europe/Berlin:20260626T130000
UID:262-O130-20260626T113000@EFADÜSSELDORF
SUMMARY:Café Kinderwagen Offener Treff für Mütter und Väter mit Babys im ersten Lebensjahr (262-O130) 
LOCATION:Borsigstr. 12, efa-Stadtteiltreff, Saal, Borsigstr. 12, 40227 Düsseldorf
END:VEVENT
BEGIN:VEVENT
DTSTAMP:20260424T171409
DTSTART;TZID=Europe/Berlin:20260703T113000
DTEND;TZID=Europe/Berlin:20260703T130000
UID:262-O130-20260703T113000@EFADÜSSELDORF
SUMMARY:Café Kinderwagen Offener Treff für Mütter und Väter mit Babys im ersten Lebensjahr (262-O130) 
LOCATION:Borsigstr. 12, efa-Stadtteiltreff, Saal, Borsigstr. 12, 40227 Düsseldorf
END:VEVENT
BEGIN:VEVENT
DTSTAMP:20260424T171409
DTSTART;TZID=Europe/Berlin:20260710T113000
DTEND;TZID=Europe/Berlin:20260710T130000
UID:262-O130-20260710T113000@EFADÜSSELDORF
SUMMARY:Café Kinderwagen Offener Treff für Mütter und Väter mit Babys im ersten Lebensjahr (262-O130) 
LOCATION:Borsigstr. 12, efa-Stadtteiltreff, Saal, Borsigstr. 12, 40227 Düsseldorf
END:VEVENT
BEGIN:VEVENT
DTSTAMP:20260424T171409
DTSTART;TZID=Europe/Berlin:20260717T113000
DTEND;TZID=Europe/Berlin:20260717T130000
UID:262-O130-20260717T113000@EFADÜSSELDORF
SUMMARY:Café Kinderwagen Offener Treff für Mütter und Väter mit Babys im ersten Lebensjahr (262-O130) 
LOCATION:Borsigstr. 12, efa-Stadtteiltreff, Saal, Borsigstr. 12, 40227 Düsseldorf
END:VEVENT
END:VCALENDAR