BEGIN:VCALENDAR
VERSION:2.0
PRODID:https://www.kufer.de/kuferweb / DE
METHOD:PUBLISH
CALSCALE:GREGORIAN
X-WR-TIMEZONE:Europe/Berlin
BEGIN:VTIMEZONE
TZID:Europe/Berlin
X-LIC-LOCATION:Europe/Berlin
BEGIN:DAYLIGHT
TZOFFSETFROM:+0100
TZOFFSETTO:+0200
TZNAME:CEST
DTSTART:19700329T020000
RRULE:FREQ=YEARLY;INTERVAL=1;BYDAY=-1SU;BYMONTH=3
END:DAYLIGHT
BEGIN:STANDARD
TZOFFSETFROM:+0200
TZOFFSETTO:+0100
TZNAME:CET
DTSTART:19701025T030000
RRULE:FREQ=YEARLY;INTERVAL=1;BYDAY=-1SU;BYMONTH=10
END:STANDARD
END:VTIMEZONE
BEGIN:VEVENT
DTSTAMP:20260420T174022
DTSTART;TZID=Europe/Berlin:20260516T110000
DTEND;TZID=Europe/Berlin:20260516T123000
UID:262-D207-20260516T110000@EFADÜSSELDORF
SUMMARY:Griechische Spielgruppe für Eltern und Kinder von 1 bis 3 Jahren (262-D207) 
LOCATION:Collenbachstr. 10, efa-Stadtteiltreff, Bewegungsraum, Collenbachstr. 10, 40476 Düsseldorf
END:VEVENT
BEGIN:VEVENT
DTSTAMP:20260420T174022
DTSTART;TZID=Europe/Berlin:20260523T110000
DTEND;TZID=Europe/Berlin:20260523T123000
UID:262-D207-20260523T110000@EFADÜSSELDORF
SUMMARY:Griechische Spielgruppe für Eltern und Kinder von 1 bis 3 Jahren (262-D207) 
LOCATION:Collenbachstr. 10, efa-Stadtteiltreff, Bewegungsraum, Collenbachstr. 10, 40476 Düsseldorf
END:VEVENT
BEGIN:VEVENT
DTSTAMP:20260420T174022
DTSTART;TZID=Europe/Berlin:20260530T110000
DTEND;TZID=Europe/Berlin:20260530T123000
UID:262-D207-20260530T110000@EFADÜSSELDORF
SUMMARY:Griechische Spielgruppe für Eltern und Kinder von 1 bis 3 Jahren (262-D207) 
LOCATION:Collenbachstr. 10, efa-Stadtteiltreff, Bewegungsraum, Collenbachstr. 10, 40476 Düsseldorf
END:VEVENT
BEGIN:VEVENT
DTSTAMP:20260420T174022
DTSTART;TZID=Europe/Berlin:20260606T110000
DTEND;TZID=Europe/Berlin:20260606T123000
UID:262-D207-20260606T110000@EFADÜSSELDORF
SUMMARY:Griechische Spielgruppe für Eltern und Kinder von 1 bis 3 Jahren (262-D207) 
LOCATION:Collenbachstr. 10, efa-Stadtteiltreff, Bewegungsraum, Collenbachstr. 10, 40476 Düsseldorf
END:VEVENT
BEGIN:VEVENT
DTSTAMP:20260420T174022
DTSTART;TZID=Europe/Berlin:20260613T110000
DTEND;TZID=Europe/Berlin:20260613T123000
UID:262-D207-20260613T110000@EFADÜSSELDORF
SUMMARY:Griechische Spielgruppe für Eltern und Kinder von 1 bis 3 Jahren (262-D207) 
LOCATION:Collenbachstr. 10, efa-Stadtteiltreff, Bewegungsraum, Collenbachstr. 10, 40476 Düsseldorf
END:VEVENT
BEGIN:VEVENT
DTSTAMP:20260420T174022
DTSTART;TZID=Europe/Berlin:20260620T110000
DTEND;TZID=Europe/Berlin:20260620T123000
UID:262-D207-20260620T110000@EFADÜSSELDORF
SUMMARY:Griechische Spielgruppe für Eltern und Kinder von 1 bis 3 Jahren (262-D207) 
LOCATION:Collenbachstr. 10, efa-Stadtteiltreff, Bewegungsraum, Collenbachstr. 10, 40476 Düsseldorf
END:VEVENT
BEGIN:VEVENT
DTSTAMP:20260420T174022
DTSTART;TZID=Europe/Berlin:20260627T110000
DTEND;TZID=Europe/Berlin:20260627T123000
UID:262-D207-20260627T110000@EFADÜSSELDORF
SUMMARY:Griechische Spielgruppe für Eltern und Kinder von 1 bis 3 Jahren (262-D207) 
LOCATION:Collenbachstr. 10, efa-Stadtteiltreff, Bewegungsraum, Collenbachstr. 10, 40476 Düsseldorf
END:VEVENT
END:VCALENDAR