BEGIN:VCALENDAR
VERSION:2.0
PRODID:https://www.kufer.de/kuferweb / DE
METHOD:PUBLISH
CALSCALE:GREGORIAN
X-WR-TIMEZONE:Europe/Berlin
BEGIN:VTIMEZONE
TZID:Europe/Berlin
X-LIC-LOCATION:Europe/Berlin
BEGIN:DAYLIGHT
TZOFFSETFROM:+0100
TZOFFSETTO:+0200
TZNAME:CEST
DTSTART:19700329T020000
RRULE:FREQ=YEARLY;INTERVAL=1;BYDAY=-1SU;BYMONTH=3
END:DAYLIGHT
BEGIN:STANDARD
TZOFFSETFROM:+0200
TZOFFSETTO:+0100
TZNAME:CET
DTSTART:19701025T030000
RRULE:FREQ=YEARLY;INTERVAL=1;BYDAY=-1SU;BYMONTH=10
END:STANDARD
END:VTIMEZONE
BEGIN:VEVENT
DTSTAMP:20260424T102138
DTSTART;TZID=Europe/Berlin:20260723T153000
DTEND;TZID=Europe/Berlin:20260723T174500
UID:262-2529-20260723T153000@EFADÜSSELDORF
SUMMARY:Eltern-Kind-Töpfern in den Sommerferien für Eltern und Kinder ab 3 Jahren (262-2529) 
LOCATION:Hohenzollernstr. 24, efa, Vortragssaal, Hohenzollernstr. 24, 40211 Düsseldorf
END:VEVENT
END:VCALENDAR