BEGIN:VCALENDAR
VERSION:2.0
PRODID:https://www.kufer.de/kuferweb / DE
METHOD:PUBLISH
CALSCALE:GREGORIAN
X-WR-TIMEZONE:Europe/Berlin
BEGIN:VTIMEZONE
TZID:Europe/Berlin
X-LIC-LOCATION:Europe/Berlin
BEGIN:DAYLIGHT
TZOFFSETFROM:+0100
TZOFFSETTO:+0200
TZNAME:CEST
DTSTART:19700329T020000
RRULE:FREQ=YEARLY;INTERVAL=1;BYDAY=-1SU;BYMONTH=3
END:DAYLIGHT
BEGIN:STANDARD
TZOFFSETFROM:+0200
TZOFFSETTO:+0100
TZNAME:CET
DTSTART:19701025T030000
RRULE:FREQ=YEARLY;INTERVAL=1;BYDAY=-1SU;BYMONTH=10
END:STANDARD
END:VTIMEZONE
BEGIN:VEVENT
DTSTAMP:20260424T153356
DTSTART;TZID=Europe/Berlin:20260507T091500
DTEND;TZID=Europe/Berlin:20260507T113000
UID:262-1122-20260507T091500@EFADÜSSELDORF
SUMMARY:Elternstart NRW - Offener Treff für Mütter und Väter mit Babys im ersten Lebensjahr (262-1122) 
LOCATION:Daimlerstr. 12, Ev. Familienzentrum NRW, Daimlerstr. 12, 40235 Düsseldorf
END:VEVENT
BEGIN:VEVENT
DTSTAMP:20260424T153356
DTSTART;TZID=Europe/Berlin:20260521T091500
DTEND;TZID=Europe/Berlin:20260521T113000
UID:262-1122-20260521T091500@EFADÜSSELDORF
SUMMARY:Elternstart NRW - Offener Treff für Mütter und Väter mit Babys im ersten Lebensjahr (262-1122) 
LOCATION:Daimlerstr. 12, Ev. Familienzentrum NRW, Daimlerstr. 12, 40235 Düsseldorf
END:VEVENT
BEGIN:VEVENT
DTSTAMP:20260424T153356
DTSTART;TZID=Europe/Berlin:20260528T091500
DTEND;TZID=Europe/Berlin:20260528T113000
UID:262-1122-20260528T091500@EFADÜSSELDORF
SUMMARY:Elternstart NRW - Offener Treff für Mütter und Väter mit Babys im ersten Lebensjahr (262-1122) 
LOCATION:Daimlerstr. 12, Ev. Familienzentrum NRW, Daimlerstr. 12, 40235 Düsseldorf
END:VEVENT
BEGIN:VEVENT
DTSTAMP:20260424T153356
DTSTART;TZID=Europe/Berlin:20260611T091500
DTEND;TZID=Europe/Berlin:20260611T113000
UID:262-1122-20260611T091500@EFADÜSSELDORF
SUMMARY:Elternstart NRW - Offener Treff für Mütter und Väter mit Babys im ersten Lebensjahr (262-1122) 
LOCATION:Daimlerstr. 12, Ev. Familienzentrum NRW, Daimlerstr. 12, 40235 Düsseldorf
END:VEVENT
BEGIN:VEVENT
DTSTAMP:20260424T153356
DTSTART;TZID=Europe/Berlin:20260618T091500
DTEND;TZID=Europe/Berlin:20260618T113000
UID:262-1122-20260618T091500@EFADÜSSELDORF
SUMMARY:Elternstart NRW - Offener Treff für Mütter und Väter mit Babys im ersten Lebensjahr (262-1122) 
LOCATION:Daimlerstr. 12, Ev. Familienzentrum NRW, Daimlerstr. 12, 40235 Düsseldorf
END:VEVENT
BEGIN:VEVENT
DTSTAMP:20260424T153356
DTSTART;TZID=Europe/Berlin:20260625T091500
DTEND;TZID=Europe/Berlin:20260625T113000
UID:262-1122-20260625T091500@EFADÜSSELDORF
SUMMARY:Elternstart NRW - Offener Treff für Mütter und Väter mit Babys im ersten Lebensjahr (262-1122) 
LOCATION:Daimlerstr. 12, Ev. Familienzentrum NRW, Daimlerstr. 12, 40235 Düsseldorf
END:VEVENT
BEGIN:VEVENT
DTSTAMP:20260424T153356
DTSTART;TZID=Europe/Berlin:20260702T091500
DTEND;TZID=Europe/Berlin:20260702T113000
UID:262-1122-20260702T091500@EFADÜSSELDORF
SUMMARY:Elternstart NRW - Offener Treff für Mütter und Väter mit Babys im ersten Lebensjahr (262-1122) 
LOCATION:Daimlerstr. 12, Ev. Familienzentrum NRW, Daimlerstr. 12, 40235 Düsseldorf
END:VEVENT
BEGIN:VEVENT
DTSTAMP:20260424T153356
DTSTART;TZID=Europe/Berlin:20260709T091500
DTEND;TZID=Europe/Berlin:20260709T113000
UID:262-1122-20260709T091500@EFADÜSSELDORF
SUMMARY:Elternstart NRW - Offener Treff für Mütter und Väter mit Babys im ersten Lebensjahr (262-1122) 
LOCATION:Daimlerstr. 12, Ev. Familienzentrum NRW, Daimlerstr. 12, 40235 Düsseldorf
END:VEVENT
BEGIN:VEVENT
DTSTAMP:20260424T153356
DTSTART;TZID=Europe/Berlin:20260716T091500
DTEND;TZID=Europe/Berlin:20260716T113000
UID:262-1122-20260716T091500@EFADÜSSELDORF
SUMMARY:Elternstart NRW - Offener Treff für Mütter und Väter mit Babys im ersten Lebensjahr (262-1122) 
LOCATION:Daimlerstr. 12, Ev. Familienzentrum NRW, Daimlerstr. 12, 40235 Düsseldorf
END:VEVENT
END:VCALENDAR